BEGIN:VCALENDAR
VERSION:2.0
PRODID:-//Erasmus Centre for Data Analytics - ECPv6.15.20//NONSGML v1.0//EN
CALSCALE:GREGORIAN
METHOD:PUBLISH
X-ORIGINAL-URL:https://ecda.eur.nl
X-WR-CALDESC:Evenementen voor Erasmus Centre for Data Analytics
REFRESH-INTERVAL;VALUE=DURATION:PT1H
X-Robots-Tag:noindex
X-PUBLISHED-TTL:PT1H
BEGIN:VTIMEZONE
TZID:Europe/Amsterdam
BEGIN:DAYLIGHT
TZOFFSETFROM:+0100
TZOFFSETTO:+0200
TZNAME:CEST
DTSTART:20250330T010000
END:DAYLIGHT
BEGIN:STANDARD
TZOFFSETFROM:+0200
TZOFFSETTO:+0100
TZNAME:CET
DTSTART:20251026T010000
END:STANDARD
BEGIN:DAYLIGHT
TZOFFSETFROM:+0100
TZOFFSETTO:+0200
TZNAME:CEST
DTSTART:20260329T010000
END:DAYLIGHT
BEGIN:STANDARD
TZOFFSETFROM:+0200
TZOFFSETTO:+0100
TZNAME:CET
DTSTART:20261025T010000
END:STANDARD
BEGIN:DAYLIGHT
TZOFFSETFROM:+0100
TZOFFSETTO:+0200
TZNAME:CEST
DTSTART:20270328T010000
END:DAYLIGHT
BEGIN:STANDARD
TZOFFSETFROM:+0200
TZOFFSETTO:+0100
TZNAME:CET
DTSTART:20271031T010000
END:STANDARD
END:VTIMEZONE
BEGIN:VEVENT
DTSTART;TZID=Europe/Amsterdam:20260518T140000
DTEND;TZID=Europe/Amsterdam:20260518T170000
DTSTAMP:20260425T123711
CREATED:20260414T115121Z
LAST-MODIFIED:20260414T115122Z
UID:26300-1779112800-1779123600@ecda.eur.nl
SUMMARY:Future-proof with young people: Social Code for Responsible AI
DESCRIPTION:Sociaal AI Lab Rotterdam  \n\n\n\n\n\n\n\n\n\n \n\n\n\nTogether with Digital Child Rights\, the Social AI Lab Rotterdam is organizing an interactive session on policy and the Societal Code for Responsible AI\, with a special focus on young people. Based on insights from a consultation with 100 young people\, we will discuss what responsible AI means to them and how existing policy can be strengthened. Do you work as a policymaker for or with young people? Join the discussion\, share your expertise\, and help build future-proof AI.    \n\n\n\n \n\n\n\n\n\n\n  \n  \n    Date and Time\n    Monday 18 May 2026\, 14:00\n  \n  \n\n  \n  \n    Location\n    Rotterdam – Hillevliet 90\, Room 0.25\n  \n  \n\n  \n  \n    Event language\n    \nEnglish\n\n  \n  \n\n\n \n\n\n\n\n \n\n\n\n\nRegister
URL:https://ecda.eur.nl/event/future-proof-with-young-people-social-code-for-responsible-ai/
CATEGORIES:Sociaal AI Lab Rotterdam
ATTACH;FMTTYPE=image/jpeg:https://ecda.eur.nl/wp-content/uploads/2026/04/sociaal-ai-lab-may-18th-.jpg
END:VEVENT
END:VCALENDAR